BEGIN:VCALENDAR
VERSION:2.0
PRODID:-//Cantina Visconti di Vigoleno - ECPv6.15.20//NONSGML v1.0//EN
CALSCALE:GREGORIAN
METHOD:PUBLISH
X-ORIGINAL-URL:https://cantinaviscontivigoleno.com
X-WR-CALDESC:Eventi per Cantina Visconti di Vigoleno
REFRESH-INTERVAL;VALUE=DURATION:PT1H
X-Robots-Tag:noindex
X-PUBLISHED-TTL:PT1H
BEGIN:VTIMEZONE
TZID:Europe/Rome
BEGIN:DAYLIGHT
TZOFFSETFROM:+0100
TZOFFSETTO:+0200
TZNAME:CEST
DTSTART:20250330T010000
END:DAYLIGHT
BEGIN:STANDARD
TZOFFSETFROM:+0200
TZOFFSETTO:+0100
TZNAME:CET
DTSTART:20251026T010000
END:STANDARD
BEGIN:DAYLIGHT
TZOFFSETFROM:+0100
TZOFFSETTO:+0200
TZNAME:CEST
DTSTART:20260329T010000
END:DAYLIGHT
BEGIN:STANDARD
TZOFFSETFROM:+0200
TZOFFSETTO:+0100
TZNAME:CET
DTSTART:20261025T010000
END:STANDARD
BEGIN:DAYLIGHT
TZOFFSETFROM:+0100
TZOFFSETTO:+0200
TZNAME:CEST
DTSTART:20270328T010000
END:DAYLIGHT
BEGIN:STANDARD
TZOFFSETFROM:+0200
TZOFFSETTO:+0100
TZNAME:CET
DTSTART:20271031T010000
END:STANDARD
END:VTIMEZONE
BEGIN:VEVENT
DTSTART;TZID=Europe/Rome:20260208T130000
DTEND;TZID=Europe/Rome:20260208T160000
DTSTAMP:20260424T135137
CREATED:20260104T163821Z
LAST-MODIFIED:20260117T103546Z
UID:5720-1770555600-1770566400@cantinaviscontivigoleno.com
SUMMARY:Maialata #2
DESCRIPTION:Maialata e vini ancestrali #2\ntra i sapori antichi delle nebbie e dei vapori dell’inverno emiliano\nSeconda tappa del saporitissimo viaggio tra le golosità del mondo norcino emiliano\, dall’antica tradizione di famiglia e di  territorio\, quando le nebbie della bassa e i vapori dei nostri pentoloni si fondono in fumini deliziosi. \n#2 MAIALATA di Cantina Visconti\nin abbinamento ai nostri vini naturali ancestrali\, mossi quanto basta a sgrassare e ripulire. \nLeggi il menù e prenota il tuo posto! \n\nMenù: \n \n\nAperte le prenotazioni\, posti limitati! \nInfo e prenotazioni:\ntel. | WA: 340 6621684\nmail: info@cantinaviscontivigoleno.com
URL:https://cantinaviscontivigoleno.com/event/maialata-2/
LOCATION:Cantina Visconti – Vigoleno\, Loc. Pollorsi 1\, Vernasca\, 29010\, Italy
CATEGORIES:menù speciale
ATTACH;FMTTYPE=image/jpeg:https://cantinaviscontivigoleno.com/wp-content/uploads/2026/01/Maialata-2-Cantina-Visconti-Vigoleno-Agriturismo.jpg
ORGANIZER;CN="Cantina Visconti":MAILTO:info@cantinaviscontivigoleno.com
END:VEVENT
END:VCALENDAR